BEGIN:VCALENDAR
VERSION:2.0
PRODID:-//Bike Month ATX - ECPv6.15.19//NONSGML v1.0//EN
CALSCALE:GREGORIAN
METHOD:PUBLISH
X-ORIGINAL-URL:https://bikemonthatx.com
X-WR-CALDESC:Events for Bike Month ATX
REFRESH-INTERVAL;VALUE=DURATION:PT1H
X-Robots-Tag:noindex
X-PUBLISHED-TTL:PT1H
BEGIN:VTIMEZONE
TZID:America/Chicago
BEGIN:DAYLIGHT
TZOFFSETFROM:-0600
TZOFFSETTO:-0500
TZNAME:CDT
DTSTART:20230312T080000
END:DAYLIGHT
BEGIN:STANDARD
TZOFFSETFROM:-0500
TZOFFSETTO:-0600
TZNAME:CST
DTSTART:20231105T070000
END:STANDARD
BEGIN:DAYLIGHT
TZOFFSETFROM:-0600
TZOFFSETTO:-0500
TZNAME:CDT
DTSTART:20240310T080000
END:DAYLIGHT
BEGIN:STANDARD
TZOFFSETFROM:-0500
TZOFFSETTO:-0600
TZNAME:CST
DTSTART:20241103T070000
END:STANDARD
BEGIN:DAYLIGHT
TZOFFSETFROM:-0600
TZOFFSETTO:-0500
TZNAME:CDT
DTSTART:20250309T080000
END:DAYLIGHT
BEGIN:STANDARD
TZOFFSETFROM:-0500
TZOFFSETTO:-0600
TZNAME:CST
DTSTART:20251102T070000
END:STANDARD
END:VTIMEZONE
BEGIN:VEVENT
DTSTART;TZID=America/Chicago:20240526T080000
DTEND;TZID=America/Chicago:20240526T100000
DTSTAMP:20260422T035238
CREATED:20240406T200539Z
LAST-MODIFIED:20240406T200606Z
UID:2236-1716710400-1716717600@bikemonthatx.com
SUMMARY:ARR All Level Ride - Walnut Creek
DESCRIPTION:This is the Austin Ridge Riders (ARR) All Level Ride which happens every Sunday\, typically at Walnut Creek Metropolitan Park as a way for new riders to increase their riding proficiency. \nThis is for all levels of adult riders 18 years and older. Under 18 years old may join only if accompanied by a Parent/Guardian at all times during the ride. We break into groups according to ability. Beginners are welcome\, and we will not drop riders. \nRides will be canceled if trail conditions are wet or any Special Event falls on that day. RSVP to the event on Meetup.com to receive email alerts for any changes or cancellations. If you are interested in being a group ride leader\, please see Renee Mocha or Abel Pardo at the group ride or send an email to: arr_rides@austinridgeriders.com \n\nHelmets are mandatory!\nPlease bring plenty of water and electrolytes for the ride.\nPlease ensure your bike is mechanically sound.\nThe ride lasts approximately 1.5-2 hours.\n\nFor more information please visit the event website.
URL:https://bikemonthatx.com/events-scheduled/arr-all-level-ride-walnut-creek-3/
LOCATION:Walnut Creek Metropolitan Park\, 12138 N Lamar Blvd\, Austin\, TX\, 78753\, United States
ORGANIZER;CN="Austin Ridge Riders":MAILTO:arr_rides@austinridgeriders.com
END:VEVENT
BEGIN:VEVENT
DTSTART;TZID=America/Chicago:20240526T120000
DTEND;TZID=America/Chicago:20240526T150000
DTSTAMP:20260422T035238
CREATED:20240404T104922Z
LAST-MODIFIED:20240511T190334Z
UID:2040-1716724800-1716735600@bikemonthatx.com
SUMMARY:Bike Polo
DESCRIPTION:COME PLAY POLO WITH US!\n\nThe Austin Texas Bike Polo Social Club hosts open Bike Polo matches every Tuesday (Beginners/Rookie Night) at 7pm\, Thursday at 7pm\, and Sundays at noon. When you get to Mendez Recreation Center\, come down the hill at the back to the nice new multi-use Bike Polo Court we were able to get built as part of a City of Austin Neighborhood Partnering Program (NPP) project.\n\nThere’s always a bike/mallet to borrow but please ask ahead of time so we can be sure to have something for you. Please bring a helmet or ask to borrow one. Head over to our Facebook page and send us a message or make a post if you’re looking to play or come visit\, especially if you’d like to borrow a loaner bike!
URL:https://bikemonthatx.com/events-scheduled/bike-polo-2024-11/
LOCATION:Metz Neighborhood Park\, 2407 Canterbury St\, Austin\, TX\, 78702\, United States
END:VEVENT
BEGIN:VEVENT
DTSTART;TZID=America/Chicago:20240526T120000
DTEND;TZID=America/Chicago:20240526T150000
DTSTAMP:20260422T035238
CREATED:20240405T160858Z
LAST-MODIFIED:20240523T212409Z
UID:2137-1716724800-1716735600@bikemonthatx.com
SUMMARY:Sunday Cruise ATX
DESCRIPTION:Welcoming all people looking for a relaxing cruise/community every Sunday. Est. 2016 \nMore information and links to FB\, IG\, etc available here: https://linktr.ee/SundayCruiseATX \nLet’s Cruise 🌞🚲 Join us for a special Sunday Cruise from Casa Marianella to Barton Springs and back\, happening on May 26! (NEXT Sunday) \nThis beginner-friendly ride isn’t just a typical outing—it’s a chance to connect with the vibrant community from Casa Marianella and enjoy Austin’s beautiful scenery together. Bring your bike\, helmet\, swimsuit\, and towel for a refreshing swim at Barton Springs (pool ticket not included). Refreshments will be provided by Ghisallo Cycling Initiative through Get There ATX. \n**The ride is a collaborative effort with Yellow Bike Project and Casa Marianella led by yours truly Sunday Cruise ATX and welcomes riders of all levels!** \nDetails:\nLet’s pedal together and make lasting memories on the road! 🚲🌟\n📍MEETUP: Casa Marianella ~ 821 Gunter St.\n✌🏼Wheels Down /-/ 12:15\n💦Mid Swim/ Splash Stop: Barton Springs Pool\n$5 cash at the gate or use the kiosk with your credit card\n✨End Stop 2:45 ish: Back at Casa Marianella\n🌡️Spice level: medium – mostly flat\n~ 8ish miles total \nCasa Marianella welcomes displaced immigrants and promotes self-sufficiency by providing shelter and support services. \nLearn More about Casa Marianella here: https://www.casamarianella.org/ \nNote: Later in the day\, at Casa Marianella from 6 PM – 8 PM – Convivio featuring live music\, food\, fun\, fellowship\, and dancing! This gathering is open to everyone and promises an evening of community celebration. https://www.casamarianella.org/about-us/convivio/ \n✨What to Bring: smiles\, sun protection\, cash for entrance into Barton Springs\, water\, snacks\, bring your friends or feel free to come alone – you will not be left out!\nAs always\, bring your chill vibes! See you there!
URL:https://bikemonthatx.com/events-scheduled/sunday-cruise-2024-4/
LOCATION:Casa Marianella\, 821 Gunter St\, Austin\, TX\, 78702\, United States
ORGANIZER;CN="Valerie":MAILTO:valerie@bikestorynight.com
END:VEVENT
BEGIN:VEVENT
DTSTART;TZID=America/Chicago:20240526T120000
DTEND;TZID=America/Chicago:20240526T153000
DTSTAMP:20260422T035238
CREATED:20240505T081429Z
LAST-MODIFIED:20240505T081429Z
UID:2692-1716724800-1716737400@bikemonthatx.com
SUMMARY:YBP Social Bike Ride & Convivio
DESCRIPTION:BIKE RIDE TO BARTON SPRINGS | 12 PM – 3:30 PM \nBeginner friendly slow pace ride from Casa Marianella to Barton Springs and back. Grab a bike\, helmet\, swimsuit and a towel for a swim at Barton Springs. Refreshments provided by Ghisallo Cycling Initiative & Fiesta Austin. Ride led by Sunday Cruise ATX. All are welcome! \nCONVIVIO | 6 PM – 8 PM \nJoin us at Casa Marianella at 821 Gunter St\, Austin\, TX 78702 for live salsa music\, food\, fun\, fellowship and dancing! All are welcome! \nBrought to you by Yellow Bike\, Sunday Cruise ATX\, & Casa Marianella \nSponsored by: Ghisallo Cycling Initiative & Fiesta Austin
URL:https://bikemonthatx.com/events-scheduled/ybp-social-bike-ride-convivio/
LOCATION:Casa Marianella\, 821 Gunter St\, Austin\, TX\, 78702\, United States
ORGANIZER;CN="Yellow Bike":MAILTO:info@austinyellowbike.org
END:VEVENT
BEGIN:VEVENT
DTSTART;TZID=America/Chicago:20240526T140000
DTEND;TZID=America/Chicago:20240526T160000
DTSTAMP:20260422T035238
CREATED:20240509T060304Z
LAST-MODIFIED:20240509T060304Z
UID:2760-1716732000-1716739200@bikemonthatx.com
SUMMARY:RLPI Bike Ride to McKalla Station
DESCRIPTION:Join the Red Line Parkway Initiative on this casual ~5 mile round trip ride to visit the CapMetro Rail McKalla Station\, a short portion of the Red Line Parkway\, and other special locations along the way.
URL:https://bikemonthatx.com/events-scheduled/rlpi-bike-ride-to-mckalla-station/
LOCATION:Padrón Elementary School\, 2011 W Rundberg Ln\, Austin\, TX\, 78758\, United States
ORGANIZER;CN="Red Line Parkway Initiative":MAILTO:info@redlineparkway.org
END:VEVENT
BEGIN:VEVENT
DTSTART;TZID=America/Chicago:20240526T143000
DTEND;TZID=America/Chicago:20240526T163000
DTSTAMP:20260422T035238
CREATED:20240407T181019Z
LAST-MODIFIED:20240407T182840Z
UID:2282-1716733800-1716741000@bikemonthatx.com
SUMMARY:MTCC Austin Sunday Ride
DESCRIPTION:Major Taylor Cycling Club of Austin’s weekly ride every Sunday afternoon starting and ending at Govalle Park in East Austin.
URL:https://bikemonthatx.com/events-scheduled/mtcc-austin-sunday-ride-4/
LOCATION:Govalle Park\, 5200 Bolm Rd\, Austin\, TX\, 78702\, United States
END:VEVENT
BEGIN:VEVENT
DTSTART;TZID=America/Chicago:20240526T164500
DTEND;TZID=America/Chicago:20240526T200000
DTSTAMP:20260422T035238
CREATED:20240404T023436Z
LAST-MODIFIED:20240406T151206Z
UID:2009-1716741900-1716753600@bikemonthatx.com
SUMMARY:SCA Bike Curious Ride
DESCRIPTION:Bike Curious Sunday is a weekly Social Cycling Austin bicycle ride cruising central Austin streets every Sunday evening. All skills levels are welcomed. Our mission is to get more people curious about cycling to get their “Butts on Bikes!”\n\nWe meet-up in the parking lot on the west side of the Browning Hanger at Muller (between Airport Blvd and the Hangar) around 4:45pm with wheels down at 5pm for 2-3hrs of riding. Bring lights!
URL:https://bikemonthatx.com/events-scheduled/sca-bike-curious-ride-2024-4/
LOCATION:Browning Hangar (at Mueller)\, 4550 Mueller Blvd\, Austin\, TX\, 78722\, United States
END:VEVENT
BEGIN:VEVENT
DTSTART;TZID=America/Chicago:20240526T183000
DTEND;TZID=America/Chicago:20240526T210000
DTSTAMP:20260422T035238
CREATED:20240408T110109Z
LAST-MODIFIED:20240408T110109Z
UID:2351-1716748200-1716757200@bikemonthatx.com
SUMMARY:SCA Yoga Ride
DESCRIPTION:The Yoga Ride is back! \nDetails:\nMeet us at the Doug Sahm Hill for a bike ride and a free yoga class! Expect a casual cruise ending with a chill\, all levels yoga class. Afterward we will hit Barton Springs for free swim.\nLEADERS: Melissa Hagen-Wilson\, Mandy Townsend\, Brittany Riley\, Angi Kristi\, Brooke Maudlin\, and Kellye Kosanda\nWHEELS DOWN: 7PM\nMEETUP: 6:30-7 at Doug Sahm Hill\nWHAT TO BRING: yoga mat\, lights\, lock\, water! Swim things!\nThe Yoga Ride is brought to you by yoga instructors donating their time to build a healthier and happier cycling community through the transmission of yoga. We have been riding together for over 10 years!
URL:https://bikemonthatx.com/events-scheduled/sca-yoga-ride-4/
LOCATION:Doug Sahm Hill\, 836-898 Riverside Dr.\, Austin\, Texas\, 78704\, United States
END:VEVENT
END:VCALENDAR