BEGIN:VCALENDAR
VERSION:2.0
PRODID:-//Bike Month ATX - ECPv6.15.19//NONSGML v1.0//EN
CALSCALE:GREGORIAN
METHOD:PUBLISH
X-WR-CALNAME:Bike Month ATX
X-ORIGINAL-URL:https://bikemonthatx.com
X-WR-CALDESC:Events for Bike Month ATX
REFRESH-INTERVAL;VALUE=DURATION:PT1H
X-Robots-Tag:noindex
X-PUBLISHED-TTL:PT1H
BEGIN:VTIMEZONE
TZID:America/Chicago
BEGIN:DAYLIGHT
TZOFFSETFROM:-0600
TZOFFSETTO:-0500
TZNAME:CDT
DTSTART:20230312T080000
END:DAYLIGHT
BEGIN:STANDARD
TZOFFSETFROM:-0500
TZOFFSETTO:-0600
TZNAME:CST
DTSTART:20231105T070000
END:STANDARD
BEGIN:DAYLIGHT
TZOFFSETFROM:-0600
TZOFFSETTO:-0500
TZNAME:CDT
DTSTART:20240310T080000
END:DAYLIGHT
BEGIN:STANDARD
TZOFFSETFROM:-0500
TZOFFSETTO:-0600
TZNAME:CST
DTSTART:20241103T070000
END:STANDARD
BEGIN:DAYLIGHT
TZOFFSETFROM:-0600
TZOFFSETTO:-0500
TZNAME:CDT
DTSTART:20250309T080000
END:DAYLIGHT
BEGIN:STANDARD
TZOFFSETFROM:-0500
TZOFFSETTO:-0600
TZNAME:CST
DTSTART:20251102T070000
END:STANDARD
END:VTIMEZONE
BEGIN:VEVENT
DTSTART;VALUE=DATE:20240508
DTEND;VALUE=DATE:20240509
DTSTAMP:20260420T033048
CREATED:20240302T083106Z
LAST-MODIFIED:20240406T151646Z
UID:469-1715126400-1715212799@bikemonthatx.com
SUMMARY:Bike to School Day
DESCRIPTION:Bike to School Day is an annual event that promotes the bicycle as an option for getting to school. \nLearn more about this event on the dedicated Bike to School Day page.
URL:https://bikemonthatx.com/events-scheduled/bike-to-school-day-2024/
END:VEVENT
BEGIN:VEVENT
DTSTART;TZID=America/Chicago:20240508T073000
DTEND;TZID=America/Chicago:20240508T093000
DTSTAMP:20260420T033048
CREATED:20240326T224843Z
LAST-MODIFIED:20240501T135414Z
UID:1747-1715153400-1715160600@bikemonthatx.com
SUMMARY:We Bike Wednesday
DESCRIPTION:PENDING based on recruited volunteer support at the station as this Wednesday is also Bike to School Day and\, Ghisallo is managing a number of school programs this morning. \nGhisallo is hosting We Bike Wednesdays at Texas Coffee Traders to celebrate people riding to work during Bike Month. We invite cyclists to stop by for free coffee\, breakfast bites\, and morning chats. We also provide information on local cycling groups\, upcoming events\, safety tips\, and Ghisallo programs.
URL:https://bikemonthatx.com/events-scheduled/we-bike-wednesday-2024-2/
LOCATION:Texas Coffee Traders\, 1400 E 4th St\, Austin\, TX\, 78702\, United States
ORGANIZER;CN="Ghisallo Cycling Initiative":MAILTO:info@ghisallo.org
END:VEVENT
BEGIN:VEVENT
DTSTART;TZID=America/Chicago:20240508T090000
DTEND;TZID=America/Chicago:20240508T120000
DTSTAMP:20260420T033048
CREATED:20240501T134619Z
LAST-MODIFIED:20240501T135709Z
UID:2621-1715158800-1715169600@bikemonthatx.com
SUMMARY:YBP Gana Una Bici
DESCRIPTION:Aprende a ganar tu bicicleta gratis en español y trae tu lista de comprobación EARN-A-BIKE en español al taller para empezar. \n  \nLearn how to earn your free bike in Spanish and bring your EARN-A-BIKE Spanish checklist with you to the workshop to get started.
URL:https://bikemonthatx.com/events-scheduled/ybp-gana-una-bici/
LOCATION:Yellow Bike Project\, 1216 Webberville Rd\, Austin\, Texas\, 78721\, United States
ORGANIZER;CN="Yellow Bike":MAILTO:info@austinyellowbike.org
END:VEVENT
BEGIN:VEVENT
DTSTART;TZID=America/Chicago:20240508T173000
DTEND;TZID=America/Chicago:20240508T193000
DTSTAMP:20260420T033048
CREATED:20240419T164941Z
LAST-MODIFIED:20240419T164941Z
UID:2530-1715189400-1715196600@bikemonthatx.com
SUMMARY:Austin Bicycle Meals Delivery
DESCRIPTION:Austin Bicycle Meals delivers meals by bike to Austinites experiencing homelessness every Saturday and every other Wednesday each month. Ride with us as we pass out our meals as well as water\, feminine hygiene kits\, socks\, rain ponchos\, and dog food to our unhoused neighbors. \nWe ride and deliver as a group and we will provide all the food and items for distribution for everyone to carry. All riders need to bring is some way to carry meals on their bike\, a trailer or a basket works well but a backpack will suffice. Close toed shoes/helmets/lights are a good idea and we provide hi vis vests to wear as well. \nSaturdays rides are typically 4-6 miles and last about an hour with stops and drop-offs\, while Wednesday rides are around 10-12 miles and take about 2 hours.
URL:https://bikemonthatx.com/events-scheduled/austin-bicycle-meals-delivery-2/
LOCATION:Eastside Pedal Pushers\, 4607 Bolm Rd Suite B\, Austin\, TX\, 78702\, United States
END:VEVENT
END:VCALENDAR