BEGIN:VCALENDAR
VERSION:2.0
PRODID:-//Bike Month ATX - ECPv6.15.19//NONSGML v1.0//EN
CALSCALE:GREGORIAN
METHOD:PUBLISH
X-WR-CALNAME:Bike Month ATX
X-ORIGINAL-URL:https://bikemonthatx.com
X-WR-CALDESC:Events for Bike Month ATX
REFRESH-INTERVAL;VALUE=DURATION:PT1H
X-Robots-Tag:noindex
X-PUBLISHED-TTL:PT1H
BEGIN:VTIMEZONE
TZID:America/Chicago
BEGIN:DAYLIGHT
TZOFFSETFROM:-0600
TZOFFSETTO:-0500
TZNAME:CDT
DTSTART:20230312T080000
END:DAYLIGHT
BEGIN:STANDARD
TZOFFSETFROM:-0500
TZOFFSETTO:-0600
TZNAME:CST
DTSTART:20231105T070000
END:STANDARD
BEGIN:DAYLIGHT
TZOFFSETFROM:-0600
TZOFFSETTO:-0500
TZNAME:CDT
DTSTART:20240310T080000
END:DAYLIGHT
BEGIN:STANDARD
TZOFFSETFROM:-0500
TZOFFSETTO:-0600
TZNAME:CST
DTSTART:20241103T070000
END:STANDARD
BEGIN:DAYLIGHT
TZOFFSETFROM:-0600
TZOFFSETTO:-0500
TZNAME:CDT
DTSTART:20250309T080000
END:DAYLIGHT
BEGIN:STANDARD
TZOFFSETFROM:-0500
TZOFFSETTO:-0600
TZNAME:CST
DTSTART:20251102T070000
END:STANDARD
END:VTIMEZONE
BEGIN:VEVENT
DTSTART;VALUE=DATE:20240505
DTEND;VALUE=DATE:20240506
DTSTAMP:20260420T033144
CREATED:20240302T190338Z
LAST-MODIFIED:20240406T151745Z
UID:471-1714867200-1714953599@bikemonthatx.com
SUMMARY:National Ride A Bike Day
DESCRIPTION:In 2021\, the League of American Bicyclists launched National Ride A Bike Day to take place on the first Sunday of every May. In its fourth year\, National Ride A Bike Day will be held on May 5\, 2024. Read more about the first National Ride A Bike Day on our blog.
URL:https://bikemonthatx.com/events-scheduled/national-ride-a-bike-day-2024/
END:VEVENT
BEGIN:VEVENT
DTSTART;TZID=America/Chicago:20240505T080000
DTEND;TZID=America/Chicago:20240505T100000
DTSTAMP:20260420T033144
CREATED:20240406T195706Z
LAST-MODIFIED:20240407T175627Z
UID:2227-1714896000-1714903200@bikemonthatx.com
SUMMARY:ARR All Level Ride - South Austin Trail Network
DESCRIPTION:This is the Austin Ridge Riders (ARR) All Level Ride which happens every Sunday. The first Sunday of each month is a location other that Walnut Creek as an opportunity way to learn your way around an alternative trail system as well a for new riders to increase their riding proficiency. \nThis 1st Sunday’s ride location will be the South Austin Trail Network (https://www.trailforks.com/region/south-austin-trail-network-satn/). We meet up next to the ATX Bike Shop\, look for the ARR flag. \nThis is for all levels of adult riders 18 years and older. Under 18 years old may join only if accompanied by a Parent/Guardian at all times during the ride. We break into groups according to ability. Beginners are welcome\, and we will not drop riders. \nRides will be canceled if trail conditions are wet or any Special Event falls on that day. RSVP to the event on Meetup.com to receive email alerts for any changes or cancellations. If you are interested in being a group ride leader\, please see Renee Mocha or Abel Pardo at the group ride or send an email to: arr_rides@austinridgeriders.com \n\nHelmets are mandatory!\nPlease bring plenty of water and electrolytes for the ride.\nPlease ensure your bike is mechanically sound.\nThe ride lasts approximately 1.5-2 hours.\n\nFor more information please visit the event website.
URL:https://bikemonthatx.com/events-scheduled/arr-all-level-ride-south-austin-trail-network/
LOCATION:ATX Bike Shop\, 5701 W Slaughter Ln A-110\, Austin\, TX\, 78749\, United States
ORGANIZER;CN="Austin Ridge Riders":MAILTO:arr_rides@austinridgeriders.com
END:VEVENT
BEGIN:VEVENT
DTSTART;TZID=America/Chicago:20240505T083000
DTEND;TZID=America/Chicago:20240505T101500
DTSTAMP:20260420T033144
CREATED:20240423T204010Z
LAST-MODIFIED:20240423T204418Z
UID:2592-1714897800-1714904100@bikemonthatx.com
SUMMARY:Family Friendly Ride to Mueller Famers' Market
DESCRIPTION:Family-friendly group ride! Bring your bikes and your family to a leisurely 45-minute ride from Double Trouble to Mueller Famers’ Market. Family bikes and kids riding their own bikes are welcome! \nFor this edition we’re starting with tacos and then headed to a farmers market\, that has a playground and splash pad close by. \nDetails:\nMeet: 8:30 AM @ Double Trouble on North Loop\nWheels Down: 9:30 AM (If you want tacos order by 9!)\nPace: Very leisurely\, so everyone can have fun.\nRoute: Small\, bike-friendly streets.\nEnd Stop: Mueller Farmers Market.
URL:https://bikemonthatx.com/events-scheduled/family-friendly-ride-to-mueller-famers-market/
LOCATION:Double Trouble\, 103 N Loop Blvd E\, Austin\, TX\, 78751\, United States
END:VEVENT
BEGIN:VEVENT
DTSTART;TZID=America/Chicago:20240505T120000
DTEND;TZID=America/Chicago:20240505T150000
DTSTAMP:20260420T033144
CREATED:20240404T104052Z
LAST-MODIFIED:20240511T190630Z
UID:2019-1714910400-1714921200@bikemonthatx.com
SUMMARY:Bike Polo
DESCRIPTION:COME PLAY POLO WITH US!\n\nThe Austin Texas Bike Polo Social Club hosts open Bike Polo matches every Tuesday (Beginners/Rookie Night) at 7pm\, Thursday at 7pm\, and Sundays at noon. When you get to Mendez Recreation Center\, come down the hill at the back to the nice new multi-use Bike Polo Court we were able to get built as part of a City of Austin Neighborhood Partnering Program (NPP) project.\n\nThere’s always a bike/mallet to borrow but please ask ahead of time so we can be sure to have something for you. Please bring a helmet or ask to borrow one. Head over to our Facebook page and send us a message or make a post if you’re looking to play or come visit\, especially if you’d like to borrow a loaner bike!
URL:https://bikemonthatx.com/events-scheduled/bike-polo-2024-2/
LOCATION:Metz Neighborhood Park\, 2407 Canterbury St\, Austin\, TX\, 78702\, United States
END:VEVENT
BEGIN:VEVENT
DTSTART;TZID=America/Chicago:20240505T120000
DTEND;TZID=America/Chicago:20240505T150000
DTSTAMP:20260420T033144
CREATED:20240405T160534Z
LAST-MODIFIED:20240416T005030Z
UID:2130-1714910400-1714921200@bikemonthatx.com
SUMMARY:Sunday Cruise ATX
DESCRIPTION:Welcoming all people looking for a relaxing cruise/community every Sunday. Est. 2016 \nMore information and links to FB\, IG\, etc available here: https://linktr.ee/SundayCruiseATX \n  \nStart Location: TBD\, will be updated closer to the start of May
URL:https://bikemonthatx.com/events-scheduled/sunday-cruise-2024/
ORGANIZER;CN="Valerie":MAILTO:valerie@bikestorynight.com
END:VEVENT
BEGIN:VEVENT
DTSTART;TZID=America/Chicago:20240505T143000
DTEND;TZID=America/Chicago:20240505T163000
DTSTAMP:20260420T033144
CREATED:20240407T180806Z
LAST-MODIFIED:20240407T183045Z
UID:2275-1714919400-1714926600@bikemonthatx.com
SUMMARY:MTCC Austin Sunday Ride
DESCRIPTION:Major Taylor Cycling Club of Austin’s weekly ride every Sunday afternoon starting and ending at Govalle Park in East Austin.
URL:https://bikemonthatx.com/events-scheduled/mtcc-austin-sunday-ride/
LOCATION:Govalle Park\, 5200 Bolm Rd\, Austin\, TX\, 78702\, United States
END:VEVENT
BEGIN:VEVENT
DTSTART;TZID=America/Chicago:20240505T164500
DTEND;TZID=America/Chicago:20240505T200000
DTSTAMP:20260420T033144
CREATED:20240404T022930Z
LAST-MODIFIED:20240406T151725Z
UID:1999-1714927500-1714939200@bikemonthatx.com
SUMMARY:SCA Bike Curious Ride
DESCRIPTION:Bike Curious Sunday is a weekly Social Cycling Austin bicycle ride cruising central Austin streets every Sunday evening. All skills levels are welcomed. Our mission is to get more people curious about cycling to get their “Butts on Bikes!”\n\nWe meet-up in the parking lot on the west side of the Browning Hanger at Muller (between Airport Blvd and the Hangar) around 4:45pm with wheels down at 5pm for 2-3hrs of riding. Bring lights!
URL:https://bikemonthatx.com/events-scheduled/sca-bike-curious-ride-2024/
LOCATION:Browning Hangar (at Mueller)\, 4550 Mueller Blvd\, Austin\, TX\, 78722\, United States
END:VEVENT
BEGIN:VEVENT
DTSTART;TZID=America/Chicago:20240505T180000
DTEND;TZID=America/Chicago:20240505T210000
DTSTAMP:20260420T033144
CREATED:20240408T101520Z
LAST-MODIFIED:20240408T103002Z
UID:2302-1714932000-1714942800@bikemonthatx.com
SUMMARY:YBP Open Workshop
DESCRIPTION:Need tools\, guidance\, and mechanic space? This workshop is for you! \nBring your own bike project or work on one of ours and help us fix bicycles for Austin’s vulnerable communities while completing your Earn-a-Bike checklist. No bike repair experience is necessary\, but patience and the ability to work independently with minimal instruction are highly recommended. Work at your own pace\, with the help of our volunteer mechanics. \nFREE | No reservations required.
URL:https://bikemonthatx.com/events-scheduled/ybp-open-workshop-3/
LOCATION:Yellow Bike Project\, 1216 Webberville Rd\, Austin\, Texas\, 78721\, United States
ORGANIZER;CN="Yellow Bike":MAILTO:info@austinyellowbike.org
END:VEVENT
BEGIN:VEVENT
DTSTART;TZID=America/Chicago:20240505T183000
DTEND;TZID=America/Chicago:20240505T210000
DTSTAMP:20260420T033144
CREATED:20240408T110102Z
LAST-MODIFIED:20240408T110102Z
UID:2348-1714933800-1714942800@bikemonthatx.com
SUMMARY:SCA Yoga Ride
DESCRIPTION:The Yoga Ride is back! \nDetails:\nMeet us at the Doug Sahm Hill for a bike ride and a free yoga class! Expect a casual cruise ending with a chill\, all levels yoga class. Afterward we will hit Barton Springs for free swim.\nLEADERS: Melissa Hagen-Wilson\, Mandy Townsend\, Brittany Riley\, Angi Kristi\, Brooke Maudlin\, and Kellye Kosanda\nWHEELS DOWN: 7PM\nMEETUP: 6:30-7 at Doug Sahm Hill\nWHAT TO BRING: yoga mat\, lights\, lock\, water! Swim things!\nThe Yoga Ride is brought to you by yoga instructors donating their time to build a healthier and happier cycling community through the transmission of yoga. We have been riding together for over 10 years!
URL:https://bikemonthatx.com/events-scheduled/sca-yoga-ride/
LOCATION:Doug Sahm Hill\, 836-898 Riverside Dr.\, Austin\, Texas\, 78704\, United States
END:VEVENT
END:VCALENDAR