BEGIN:VCALENDAR
VERSION:2.0
PRODID:-//Bike Month ATX - ECPv6.15.19//NONSGML v1.0//EN
CALSCALE:GREGORIAN
METHOD:PUBLISH
X-ORIGINAL-URL:https://bikemonthatx.com
X-WR-CALDESC:Events for Bike Month ATX
REFRESH-INTERVAL;VALUE=DURATION:PT1H
X-Robots-Tag:noindex
X-PUBLISHED-TTL:PT1H
BEGIN:VTIMEZONE
TZID:America/Chicago
BEGIN:DAYLIGHT
TZOFFSETFROM:-0600
TZOFFSETTO:-0500
TZNAME:CDT
DTSTART:20230312T080000
END:DAYLIGHT
BEGIN:STANDARD
TZOFFSETFROM:-0500
TZOFFSETTO:-0600
TZNAME:CST
DTSTART:20231105T070000
END:STANDARD
BEGIN:DAYLIGHT
TZOFFSETFROM:-0600
TZOFFSETTO:-0500
TZNAME:CDT
DTSTART:20240310T080000
END:DAYLIGHT
BEGIN:STANDARD
TZOFFSETFROM:-0500
TZOFFSETTO:-0600
TZNAME:CST
DTSTART:20241103T070000
END:STANDARD
BEGIN:DAYLIGHT
TZOFFSETFROM:-0600
TZOFFSETTO:-0500
TZNAME:CDT
DTSTART:20250309T080000
END:DAYLIGHT
BEGIN:STANDARD
TZOFFSETFROM:-0500
TZOFFSETTO:-0600
TZNAME:CST
DTSTART:20251102T070000
END:STANDARD
END:VTIMEZONE
BEGIN:VEVENT
DTSTART;TZID=America/Chicago:20240504T090000
DTEND;TZID=America/Chicago:20240504T103000
DTSTAMP:20260420T033336
CREATED:20240502T091023Z
LAST-MODIFIED:20240503T043737Z
UID:2662-1714813200-1714818600@bikemonthatx.com
SUMMARY:Slow Your Roll
DESCRIPTION:Team Snacks Cycling‘s Slow Your Roll ride is open to all WTFNB and Allies. \n\nMeet up at Flat Track/Dogspeed Cycles for a chill 10 mile Slow Your Roll ride! Calais and Laura are leading us on this fully-paved novice friendly ride\, with a snack stop at Maaribu on Guad\, where gluten free goodies abound! \nSaturday\, 5/4\, meet up at 8:30am\, roll at 9:00am\, and we’ll get back in time to say “hi!” to our old Cycleast buddies\, now transformed into Dogspeed Cycles! \nOur signature ride! This pace is casual for most experienced cyclists but could be more taxing for those who are just getting into riding. To ride at this average pace\, you’ll likely be moving around 12-15 mph on flatter or downhill terrain but may drop to 8-10 mph on rolling uphill sections. This is a great pace to start at if you’re unsure of how far and fast you are able to go. These rides are typically 10-20 miles around town\, and they are always no-drop (meaning we will never leave you behind). There will ALWAYS be snack stops. \n\nRide Requirements:\n-Helmet\n-Flat kit\n-Water\n-Phone\, ID\, and cash/credit card\n-Snacks \nGroup Ride Etiquette:\nTeam Snacks is here to have fun and support you in all your cycling endeavors. We encourage getting to know each other out there on the road! \nPlease keep these things in mind when riding in a group:\n-We ride no more than two abreast\, although there will be times when we need to ride single file. Please listen for directions from the ride leader.\n-Be mindful of where you put your front wheel. Please avoid cross-wheeling ⎯ either ride directly behind or beside someone.\n-Point out obstacles and road debris. You don’t need to yell out every twig or pothole cover\, just the things that may present danger or an obstacle to the riders behind you.\n-Basic rule of group riding: If the person in front of you points something out\, you need to point it out to the person behind you.
URL:https://bikemonthatx.com/events-scheduled/slow-your-roll/
LOCATION:Flat Track Coffee\, 1619 E Cesar Chavez St\, Austin\, TX\, 78702\, United States
END:VEVENT
BEGIN:VEVENT
DTSTART;TZID=America/Chicago:20240504T090000
DTEND;TZID=America/Chicago:20240504T120000
DTSTAMP:20260420T033336
CREATED:20240416T164929Z
LAST-MODIFIED:20240416T165719Z
UID:2447-1714813200-1714824000@bikemonthatx.com
SUMMARY:International Women's Mountain Biking Day
DESCRIPTION:Ladies! May 4th is Int’l Women’s MTB Day. Come celebrate with a group social ride at Pace Bend! Meet at 9 am\, rollout 9:30 and hang out after for some grilling! \nWho’s in? We need head count for food\, so please RSVP through the Facebook event page if staying for lunch. Feel free to bring sides\, drinks\, etc. \nWe will meet at the Pace Bend Park Mountain Bike Trails. \nAs a note\, this is an adult (18+) women only women led ride. Spouses and significant others\, etc\, are always welcome to group up and ride separately on their own\, and join for lunch afterwards.
URL:https://bikemonthatx.com/events-scheduled/international-womens-mountain-biking-day/
LOCATION:Pace Bend Park\, 2805 Pace Bend Rd N\, Spicewood\, 78669\, United States
ORGANIZER;CN="Ride Like A Girl - Women's Mountain Biking":MAILTO:rlag@austinridgeriders.com
END:VEVENT
BEGIN:VEVENT
DTSTART;TZID=America/Chicago:20240504T103000
DTEND;TZID=America/Chicago:20240504T140000
DTSTAMP:20260420T033336
CREATED:20240408T110101Z
LAST-MODIFIED:20240408T110101Z
UID:2344-1714818600-1714831200@bikemonthatx.com
SUMMARY:SCA Saturday Morning Caffeine Cruise
DESCRIPTION:Social Cycling Austin’s weekly Saturday Morning Caffeine Cruise \nStart location/venue:  Varies – check event posting\nStart time: Saturday (weekly) – 10:30am meetup\, 11:30am wheels down\nEnd time: 2:00pm (appx)
URL:https://bikemonthatx.com/events-scheduled/sca-saturday-morning-caffeine-cruise/
END:VEVENT
BEGIN:VEVENT
DTSTART;TZID=America/Chicago:20240504T110000
DTEND;TZID=America/Chicago:20240504T150000
DTSTAMP:20260420T033336
CREATED:20240502T193955Z
LAST-MODIFIED:20240502T193955Z
UID:2680-1714820400-1714834800@bikemonthatx.com
SUMMARY:Austin Cargo Bike Festival 2024
DESCRIPTION:Love your cargo bike? Thinking about trying out a cargo bike? Wondering what a cargo bike is? Then come join us Saturday\, May 4th\, at 900 Springdale Food Park for the 2nd Annual Austin Cargo Bike Festival from 11 AM – 3 PM. \nWe will have free test rides from several cargo bike retailers\, plenty of knowledgeable folks on hand to answer your questions\, and some tasty food and drink options courtesy of the food trucks at the 900 Springdale Food Park. \nBring your bike\, kids\, and friends and enjoy a fun Saturday with us! \n  \n* We’re hoping for gorgeous weather on May 4th\, but if it’s looking iffy\, please check back for updates. The rain date is May 11th.
URL:https://bikemonthatx.com/events-scheduled/austin-cargo-bike-festival-2024/
LOCATION:900 Springdale Food Park\, 900 Springdale\, Austin\, TX\, 78702\, United States
ORGANIZER;CN="BikeTexas":MAILTO:mail@biketexas.org
END:VEVENT
BEGIN:VEVENT
DTSTART;TZID=America/Chicago:20240504T120000
DTEND;TZID=America/Chicago:20240504T170000
DTSTAMP:20260420T033336
CREATED:20240408T102625Z
LAST-MODIFIED:20240408T102850Z
UID:2318-1714824000-1714842000@bikemonthatx.com
SUMMARY:YBP As-Is Bike Yard Sale
DESCRIPTION:Good quality\, as-is\, bike projects for sale at $50 – $150 now every Saturday! Fix up your bike project at home or come to one of our Open Workshops to wrench with other cool folks like you! Check our Calendar for the Open Workshops schedule.
URL:https://bikemonthatx.com/events-scheduled/ybp-as-is-bike-yard-sale/
LOCATION:Yellow Bike Project\, 1216 Webberville Rd\, Austin\, Texas\, 78721\, United States
ORGANIZER;CN="Yellow Bike":MAILTO:info@austinyellowbike.org
END:VEVENT
BEGIN:VEVENT
DTSTART;TZID=America/Chicago:20240504T163000
DTEND;TZID=America/Chicago:20240504T173000
DTSTAMP:20260420T033336
CREATED:20240419T164825Z
LAST-MODIFIED:20240419T164825Z
UID:2525-1714840200-1714843800@bikemonthatx.com
SUMMARY:Austin Bicycle Meals Delivery
DESCRIPTION:Austin Bicycle Meals delivers meals by bike to Austinites experiencing homelessness every Saturday and every other Wednesday each month. Ride with us as we pass out our meals as well as water\, feminine hygiene kits\, socks\, rain ponchos\, and dog food to our unhoused neighbors. \nWe ride and deliver as a group and we will provide all the food and items for distribution for everyone to carry. All riders need to bring is some way to carry meals on their bike\, a trailer or a basket works well but a backpack will suffice. Close toed shoes/helmets/lights are a good idea and we provide hi vis vests to wear as well. \nSaturdays rides are typically 4-6 miles and last about an hour with stops and drop-offs\, while Wednesday rides are around 10-12 miles and take about 2 hours. \n  \n 
URL:https://bikemonthatx.com/events-scheduled/austin-bicycle-meals-delivery/
LOCATION:Flat Track Coffee\, 1619 E Cesar Chavez St\, Austin\, TX\, 78702\, United States
END:VEVENT
END:VCALENDAR